BEGIN:VCALENDAR
VERSION:2.0
PRODID:-//The Market at Malcolm Yards - ECPv6.15.11//NONSGML v1.0//EN
CALSCALE:GREGORIAN
METHOD:PUBLISH
X-ORIGINAL-URL:https://malcolmyards.market
X-WR-CALDESC:Events for The Market at Malcolm Yards
REFRESH-INTERVAL;VALUE=DURATION:PT1H
X-Robots-Tag:noindex
X-PUBLISHED-TTL:PT1H
BEGIN:VTIMEZONE
TZID:America/Chicago
BEGIN:DAYLIGHT
TZOFFSETFROM:-0600
TZOFFSETTO:-0500
TZNAME:CDT
DTSTART:20230312T080000
END:DAYLIGHT
BEGIN:STANDARD
TZOFFSETFROM:-0500
TZOFFSETTO:-0600
TZNAME:CST
DTSTART:20231105T070000
END:STANDARD
BEGIN:DAYLIGHT
TZOFFSETFROM:-0600
TZOFFSETTO:-0500
TZNAME:CDT
DTSTART:20240310T080000
END:DAYLIGHT
BEGIN:STANDARD
TZOFFSETFROM:-0500
TZOFFSETTO:-0600
TZNAME:CST
DTSTART:20241103T070000
END:STANDARD
BEGIN:DAYLIGHT
TZOFFSETFROM:-0600
TZOFFSETTO:-0500
TZNAME:CDT
DTSTART:20250309T080000
END:DAYLIGHT
BEGIN:STANDARD
TZOFFSETFROM:-0500
TZOFFSETTO:-0600
TZNAME:CST
DTSTART:20251102T070000
END:STANDARD
END:VTIMEZONE
BEGIN:VEVENT
DTSTART;TZID=America/Chicago:20241201T113000
DTEND;TZID=America/Chicago:20241201T133000
DTSTAMP:20260421T121714
CREATED:20241122T022602Z
LAST-MODIFIED:20241128T012806Z
UID:10002458-1733052600-1733059800@malcolmyards.market
SUMMARY:Tinsel Tree Town: Sip ‘n Bloom’s Wreath and Porch Pot Making Class
DESCRIPTION:Step into the world of wreath crafting and porch pot making. Discover the art of designing stunning\, seasonal wreaths and pots that will adorn your home with warmth and beauty. Our Workshop is your gateway to creating the perfect decorative piece for every season. \n🍃 What to Expect: \n– Expert Instruction: Our experienced floral instructors will guide you through the process\, sharing tips and techniques for creating beautiful wreaths. \n– Seasonal Selection: Work with an array of seasonal greens\, florals\, and decorative elements that capture the essence of the time of year. \n– Hands-On Creativity: Dive into the world of wreath design as you craft your very own personalized masterpiece. \n– Personal Touch: Tailor your wreath or porch pot to your unique style and the specific season you’re celebrating. \n– Heartwarming Atmosphere: Enjoy the camaraderie of fellow floral enthusiasts in a cozy and inviting setting. \nWhether you’re looking to adorn your front door with a welcoming wreath\, create a beautiful porch arrangement\, or give the gift of handmade decor\, our Workshop is the perfect choice. \nWreath Making Design Kit ($85) Level: Easy – Includes farm fresh flowers\, our creative guide to DIY design\, oasis floral foam\, and a small reusable vase. \nPorch Pot Design Kit ($135) Level: Intermediate – Includes twice as many farm fresh flowers\, design guidance from our Master Florist\, oasis floral foam\, and a large ceramic vase. \n*UPGRADE: VIP packages allow guests to arrive 20 minutes early for best pick of the flower bar\, one-on-one attention from our Floral Design Master\, and a complimentary drink on us. \nJoin us for an enjoyable and creative experience that combines natural beauty\, seasonal charm\, and the joy of crafting something truly special. Reserve your spot today and let your creativity flourish!
URL:https://malcolmyards.market/event/tinsel-tree-town-sip-n-blooms-wreath-making-class/2024-12-01/
LOCATION:The Market at Malcolm Yards\, 501 30th Ave E\, Minneapolis\, MN\, 55414
ATTACH;FMTTYPE=image/jpeg:https://malcolmyards.market/wp-content/uploads/2024/11/4.jpg
END:VEVENT
BEGIN:VEVENT
DTSTART;TZID=America/Chicago:20241119T180000
DTEND;TZID=America/Chicago:20241119T193000
DTSTAMP:20260421T121714
CREATED:20241007T213136Z
LAST-MODIFIED:20241114T105715Z
UID:10002368-1732039200-1732044600@malcolmyards.market
SUMMARY:Sip 'N Bloom: Seasonal Flower Arranging
DESCRIPTION:Festive Fall Flowers!\n  \nStep into the world of seasonal blooms and discover the art of flower arranging like never before! Our Seasonal Flower Arranging Workshop is your ticket to crafting stunning floral creations that capture the essence of the current season. \n💐 What to Expect: \n– Expert Guidance: Our experienced floral instructors will lead you through the process\, sharing their knowledge and passion for flowers. \n– Seasonal Beauty: Work with a handpicked selection of seasonal blooms and foliage\, perfectly suited to the time of year. \n– Hands-On Creativity: Dive into the world of floral design as you craft your own unique arrangement. \n– Personal Touch: Tailor your creation to reflect your style and the spirit of the season. \n– Inspiring Environment: Enjoy the camaraderie of fellow floral enthusiasts in a warm and welcoming atmosphere. \nWhether you’re looking to enhance your home’s decor with a beautiful centerpiece or seeking a creative way to celebrate the changing seasons\, our Seasonal Flower Arranging Workshop is the perfect choice. *Upgrades are available for those looking for an extra special experience. \nPetité Flower Design Kit ($65) Level: Easy – Includes farm fresh flowers\, our creative guide to DIY design\, oasis floral foam\, and a small reusable vase. \nGrandé Flower Design Kit ($85) Level: Intermediate – Includes twice as many farm fresh flowers\, design guidance from our Master Florist\, oasis floral foam\, and a large ceramic vase. \nJoin us for a memorable experience that combines nature’s beauty\, creativity\, and the joy of crafting something truly special. Reserve your spot today and let your floral creativity flourish!
URL:https://malcolmyards.market/event/sip-n-bloom-seasonal-flower-arranging/
LOCATION:The Market at Malcolm Yards\, 501 30th Ave E\, Minneapolis\, MN\, 55414
ATTACH;FMTTYPE=image/webp:https://malcolmyards.market/wp-content/uploads/2024/10/fall-flowers.webp
END:VEVENT
END:VCALENDAR