BEGIN:VCALENDAR
VERSION:2.0
PRODID:-//The Market at Malcolm Yards - ECPv6.15.11//NONSGML v1.0//EN
CALSCALE:GREGORIAN
METHOD:PUBLISH
X-WR-CALNAME:The Market at Malcolm Yards
X-ORIGINAL-URL:https://malcolmyards.market
X-WR-CALDESC:Events for The Market at Malcolm Yards
REFRESH-INTERVAL;VALUE=DURATION:PT1H
X-Robots-Tag:noindex
X-PUBLISHED-TTL:PT1H
BEGIN:VTIMEZONE
TZID:America/Chicago
BEGIN:DAYLIGHT
TZOFFSETFROM:-0600
TZOFFSETTO:-0500
TZNAME:CDT
DTSTART:20240310T080000
END:DAYLIGHT
BEGIN:STANDARD
TZOFFSETFROM:-0500
TZOFFSETTO:-0600
TZNAME:CST
DTSTART:20241103T070000
END:STANDARD
BEGIN:DAYLIGHT
TZOFFSETFROM:-0600
TZOFFSETTO:-0500
TZNAME:CDT
DTSTART:20250309T080000
END:DAYLIGHT
BEGIN:STANDARD
TZOFFSETFROM:-0500
TZOFFSETTO:-0600
TZNAME:CST
DTSTART:20251102T070000
END:STANDARD
BEGIN:DAYLIGHT
TZOFFSETFROM:-0600
TZOFFSETTO:-0500
TZNAME:CDT
DTSTART:20260308T080000
END:DAYLIGHT
BEGIN:STANDARD
TZOFFSETFROM:-0500
TZOFFSETTO:-0600
TZNAME:CST
DTSTART:20261101T070000
END:STANDARD
END:VTIMEZONE
BEGIN:VEVENT
DTSTART;TZID=America/Chicago:20251217T180000
DTEND;TZID=America/Chicago:20251217T200000
DTSTAMP:20260423T045638
CREATED:20251205T153814Z
LAST-MODIFIED:20251205T153814Z
UID:10004057-1765994400-1766001600@malcolmyards.market
SUMMARY:Intro to the Wines of France
DESCRIPTION:France is the heartbeat of the wine world—home to many of the styles\, grapes\, and traditions that shape how we talk about wine today. Yet to many wine drinkers\, France can feel intimidating. Complicated labels\, unfamiliar regions\, and price assumptions can make it all seem out of reach. Let’s change that. \nIn this welcoming and engaging class\, we’ll take a guided journey through the major wine regions of France and decode what makes each one special. We’ll explore the elegance of Burgundy\, the bold structure of Bordeaux\, the sun-kissed flavors of the Rhône\, the crisp freshness of the Loire Valley\, the sparkling magic of Champagne\, and more. Along the way we’ll break down the why behind the wines—how climate\, grape variety\, and culture shape what’s in the glass. \nYou’ll gain practical\, real-world knowledge to help you understand French wine labels\, shop with confidence\, and recognize styles that match your taste. Most importantly\, you’ll taste a fantastic range of wines that show the amazing diversity of France—from bright whites to graceful rosés to complex\, layered reds. Get tickets here.
URL:https://malcolmyards.market/event/intro-to-the-wines-of-france-2/
LOCATION:The Market at Malcolm Yards\, 501 30th Ave E\, Minneapolis\, MN\, 55414
CATEGORIES:Wine Education
ATTACH;FMTTYPE=image/jpeg:https://malcolmyards.market/wp-content/uploads/2025/12/wine-france.jpg
END:VEVENT
END:VCALENDAR