BEGIN:VCALENDAR
VERSION:2.0
PRODID:-//The Market at Malcolm Yards - ECPv6.15.11//NONSGML v1.0//EN
CALSCALE:GREGORIAN
METHOD:PUBLISH
X-WR-CALNAME:The Market at Malcolm Yards
X-ORIGINAL-URL:https://malcolmyards.market
X-WR-CALDESC:Events for The Market at Malcolm Yards
REFRESH-INTERVAL;VALUE=DURATION:PT1H
X-Robots-Tag:noindex
X-PUBLISHED-TTL:PT1H
BEGIN:VTIMEZONE
TZID:America/Chicago
BEGIN:DAYLIGHT
TZOFFSETFROM:-0600
TZOFFSETTO:-0500
TZNAME:CDT
DTSTART:20240310T080000
END:DAYLIGHT
BEGIN:STANDARD
TZOFFSETFROM:-0500
TZOFFSETTO:-0600
TZNAME:CST
DTSTART:20241103T070000
END:STANDARD
BEGIN:DAYLIGHT
TZOFFSETFROM:-0600
TZOFFSETTO:-0500
TZNAME:CDT
DTSTART:20250309T080000
END:DAYLIGHT
BEGIN:STANDARD
TZOFFSETFROM:-0500
TZOFFSETTO:-0600
TZNAME:CST
DTSTART:20251102T070000
END:STANDARD
BEGIN:DAYLIGHT
TZOFFSETFROM:-0600
TZOFFSETTO:-0500
TZNAME:CDT
DTSTART:20260308T080000
END:DAYLIGHT
BEGIN:STANDARD
TZOFFSETFROM:-0500
TZOFFSETTO:-0600
TZNAME:CST
DTSTART:20261101T070000
END:STANDARD
END:VTIMEZONE
BEGIN:VEVENT
DTSTART;TZID=America/Chicago:20251202T173000
DTEND;TZID=America/Chicago:20251202T190000
DTSTAMP:20260421T203345
CREATED:20251201T210055Z
LAST-MODIFIED:20251201T212840Z
UID:10004052-1764696600-1764702000@malcolmyards.market
SUMMARY:Sip Some Cheer with Solo Vino!
DESCRIPTION:Sip Some Cheer with Chuck Kanski from Solo Vino Bottle Shop! \nSample wines from all over to pick out the perfect bottle for the wine-lover on your list! Every Tuesday leading up to Christmas!
URL:https://malcolmyards.market/event/sip-some-cheer-with-solo-vino/2025-12-02/
LOCATION:The Market at Malcolm Yards\, 501 30th Ave E\, Minneapolis\, MN\, 55414
ATTACH;FMTTYPE=image/jpeg:https://malcolmyards.market/wp-content/uploads/2025/12/Tinsel-Town-Slides-in-progress-1.jpg
END:VEVENT
BEGIN:VEVENT
DTSTART;TZID=America/Chicago:20251209T173000
DTEND;TZID=America/Chicago:20251209T190000
DTSTAMP:20260421T203345
CREATED:20251201T210055Z
LAST-MODIFIED:20251201T212840Z
UID:10004053-1765301400-1765306800@malcolmyards.market
SUMMARY:Sip Some Cheer with Solo Vino!
DESCRIPTION:Sip Some Cheer with Chuck Kanski from Solo Vino Bottle Shop! \nSample wines from all over to pick out the perfect bottle for the wine-lover on your list! Every Tuesday leading up to Christmas!
URL:https://malcolmyards.market/event/sip-some-cheer-with-solo-vino/2025-12-09/
LOCATION:The Market at Malcolm Yards\, 501 30th Ave E\, Minneapolis\, MN\, 55414
ATTACH;FMTTYPE=image/jpeg:https://malcolmyards.market/wp-content/uploads/2025/12/Tinsel-Town-Slides-in-progress-1.jpg
END:VEVENT
BEGIN:VEVENT
DTSTART;TZID=America/Chicago:20251216T173000
DTEND;TZID=America/Chicago:20251216T190000
DTSTAMP:20260421T203345
CREATED:20251201T210055Z
LAST-MODIFIED:20251201T212840Z
UID:10004054-1765906200-1765911600@malcolmyards.market
SUMMARY:Sip Some Cheer with Solo Vino!
DESCRIPTION:Sip Some Cheer with Chuck Kanski from Solo Vino Bottle Shop! \nSample wines from all over to pick out the perfect bottle for the wine-lover on your list! Every Tuesday leading up to Christmas!
URL:https://malcolmyards.market/event/sip-some-cheer-with-solo-vino/2025-12-16/
LOCATION:The Market at Malcolm Yards\, 501 30th Ave E\, Minneapolis\, MN\, 55414
ATTACH;FMTTYPE=image/jpeg:https://malcolmyards.market/wp-content/uploads/2025/12/Tinsel-Town-Slides-in-progress-1.jpg
END:VEVENT
END:VCALENDAR