BEGIN:VCALENDAR
VERSION:2.0
PRODID:-//The Market at Malcolm Yards - ECPv6.15.11//NONSGML v1.0//EN
CALSCALE:GREGORIAN
METHOD:PUBLISH
X-WR-CALNAME:The Market at Malcolm Yards
X-ORIGINAL-URL:https://malcolmyards.market
X-WR-CALDESC:Events for The Market at Malcolm Yards
REFRESH-INTERVAL;VALUE=DURATION:PT1H
X-Robots-Tag:noindex
X-PUBLISHED-TTL:PT1H
BEGIN:VTIMEZONE
TZID:America/Chicago
BEGIN:DAYLIGHT
TZOFFSETFROM:-0600
TZOFFSETTO:-0500
TZNAME:CDT
DTSTART:20250309T080000
END:DAYLIGHT
BEGIN:STANDARD
TZOFFSETFROM:-0500
TZOFFSETTO:-0600
TZNAME:CST
DTSTART:20251102T070000
END:STANDARD
BEGIN:DAYLIGHT
TZOFFSETFROM:-0600
TZOFFSETTO:-0500
TZNAME:CDT
DTSTART:20260308T080000
END:DAYLIGHT
BEGIN:STANDARD
TZOFFSETFROM:-0500
TZOFFSETTO:-0600
TZNAME:CST
DTSTART:20261101T070000
END:STANDARD
BEGIN:DAYLIGHT
TZOFFSETFROM:-0600
TZOFFSETTO:-0500
TZNAME:CDT
DTSTART:20270314T080000
END:DAYLIGHT
BEGIN:STANDARD
TZOFFSETFROM:-0500
TZOFFSETTO:-0600
TZNAME:CST
DTSTART:20271107T070000
END:STANDARD
END:VTIMEZONE
BEGIN:VEVENT
DTSTART;TZID=America/Chicago:20260309T180000
DTEND;TZID=America/Chicago:20260309T200000
DTSTAMP:20260424T215217
CREATED:20260223T182436Z
LAST-MODIFIED:20260223T182436Z
UID:10004084-1773079200-1773086400@malcolmyards.market
SUMMARY:Twin Cities Wine Education: Bubbles and Fries
DESCRIPTION:When it comes to sparkling wine\, there is no finer pairing than deep-fried and salty goodness. In other words\, French Fries! \nJoin us for an evening like no other\, with table after table of outstanding Champagne\, Cava\, Prosecco\, Lambrusco\, Franciacorta (and more!)\, dance-inducing songs pumping through the room\, and\, most importantly\, all-you-can-eat French Fries! \nIf you’ve never experienced Bubbles and Fries\, here’s how it works. We have the big back room at Malcolm Yards reserved. The kitchen goes into overdrive\, bringing hot\, salty spuds out for you to devour. A glass is put in your hand. Music is in the air. Seven tables of wine vendors\, each pouring a range of wines. Huge discounts are available on all wines ordered that night through Solo Vino. And\, of course\, all-you-can-eat French Fries. \nGet your tickets here.
URL:https://malcolmyards.market/event/twin-cities-wine-education-bubbles-and-fries/
LOCATION:The Market at Malcolm Yards\, 501 30th Ave E\, Minneapolis\, MN\, 55414
CATEGORIES:Wine Education
ATTACH;FMTTYPE=image/jpeg:https://malcolmyards.market/wp-content/uploads/2026/02/bubbl.jpeg
END:VEVENT
END:VCALENDAR