BEGIN:VCALENDAR
VERSION:2.0
PRODID:-//The Market at Malcolm Yards - ECPv6.15.11//NONSGML v1.0//EN
CALSCALE:GREGORIAN
METHOD:PUBLISH
X-WR-CALNAME:The Market at Malcolm Yards
X-ORIGINAL-URL:https://malcolmyards.market
X-WR-CALDESC:Events for The Market at Malcolm Yards
REFRESH-INTERVAL;VALUE=DURATION:PT1H
X-Robots-Tag:noindex
X-PUBLISHED-TTL:PT1H
BEGIN:VTIMEZONE
TZID:America/Chicago
BEGIN:DAYLIGHT
TZOFFSETFROM:-0600
TZOFFSETTO:-0500
TZNAME:CDT
DTSTART:20240310T080000
END:DAYLIGHT
BEGIN:STANDARD
TZOFFSETFROM:-0500
TZOFFSETTO:-0600
TZNAME:CST
DTSTART:20241103T070000
END:STANDARD
BEGIN:DAYLIGHT
TZOFFSETFROM:-0600
TZOFFSETTO:-0500
TZNAME:CDT
DTSTART:20250309T080000
END:DAYLIGHT
BEGIN:STANDARD
TZOFFSETFROM:-0500
TZOFFSETTO:-0600
TZNAME:CST
DTSTART:20251102T070000
END:STANDARD
BEGIN:DAYLIGHT
TZOFFSETFROM:-0600
TZOFFSETTO:-0500
TZNAME:CDT
DTSTART:20260308T080000
END:DAYLIGHT
BEGIN:STANDARD
TZOFFSETFROM:-0500
TZOFFSETTO:-0600
TZNAME:CST
DTSTART:20261101T070000
END:STANDARD
END:VTIMEZONE
BEGIN:VEVENT
DTSTART;TZID=America/Chicago:20250601T100000
DTEND;TZID=America/Chicago:20250601T110000
DTSTAMP:20260421T082950
CREATED:20250520T225848Z
LAST-MODIFIED:20250520T225848Z
UID:10003058-1748772000-1748775600@malcolmyards.market
SUMMARY:JUST Fitness Zumba Pop-up!
DESCRIPTION:Come enjoy our Zumba Pop Up with Karen Cabera Barba at 10AM sharp!
URL:https://malcolmyards.market/event/just-fitness-zumba-pop-up/
LOCATION:The Market at Malcolm Yards\, 501 30th Ave E\, Minneapolis\, MN\, 55414
CATEGORIES:JUST
ATTACH;FMTTYPE=image/png:https://malcolmyards.market/wp-content/uploads/2025/05/Screenshot-2025-05-20-164945.png
END:VEVENT
BEGIN:VEVENT
DTSTART;TZID=America/Chicago:20250602T180000
DTEND;TZID=America/Chicago:20250602T200000
DTSTAMP:20260421T082950
CREATED:20250215T010108Z
LAST-MODIFIED:20250215T010108Z
UID:10003026-1748887200-1748894400@malcolmyards.market
SUMMARY:Pour & Explore: RIOJA
DESCRIPTION:Join us for a new style of wine class unlike all others. Our new POUR AND EXPLORE series gives you a great wine class PLUS incredible access to a wide variety of amazing wines and information in a fun and informal setting.\n \nRioja has seen more transformation in the last thirty years than most wine regions in Europe. New laws\, new labeling\, climate change\, new terroirs\, and new styles have emerged. Join us to get up to date while tasting through a dozen incredible wines. \nWe’ll start with an overview of the new laws combined with a discussion on old style vs. new style wines (and debate if that’s even a thing anymore). We’ll also cover the new sparkling wines and white wines which are leading this resurgence. \nThen we’ll take our time tasting through a range of wines poured by some of the top wine pros in the cities\, giving you time to ask questions\, explore styles\, and take notes on your favorites. \nGet tickets HERE!
URL:https://malcolmyards.market/event/pour-explore-rioja/
LOCATION:The Market at Malcolm Yards\, 501 30th Ave E\, Minneapolis\, MN\, 55414
CATEGORIES:Wine Education
ATTACH;FMTTYPE=image/png:https://malcolmyards.market/wp-content/uploads/2025/01/Screenshot-2025-01-30-192803.png
END:VEVENT
BEGIN:VEVENT
DTSTART;TZID=America/Chicago:20250607T100000
DTEND;TZID=America/Chicago:20250607T110000
DTSTAMP:20260421T082950
CREATED:20240203T174152Z
LAST-MODIFIED:20251213T153201Z
UID:10001101-1749290400-1749294000@malcolmyards.market
SUMMARY:JUST Keg HIIT Class: Every Saturday (Free)
DESCRIPTION:JUST x MY = Free Keg HIIT Classes!\nJoin us every Saturday morning at 10AM before we open for a Keg HIIT class with the team at JUST. \n50 minute classes featuring cardio\, strength training+ more! Open to all ages + experience\, free to the public. \nBring your own water bottle\, towel + mat. \nSign up for FREE here! \n(Walk-ins welcome\, too!) \n  \n 
URL:https://malcolmyards.market/event/just-fitness-classes-every-saturday-free-2-2-2-2-2/2025-06-07/
LOCATION:The Market at Malcolm Yards\, 501 30th Ave E\, Minneapolis\, MN\, 55414
CATEGORIES:JUST
ATTACH;FMTTYPE=image/svg+xml:https://malcolmyards.market/wp-content/uploads/2024/02/website-images-render-1.svg
END:VEVENT
BEGIN:VEVENT
DTSTART;TZID=America/Chicago:20250608T120000
DTEND;TZID=America/Chicago:20250608T160000
DTSTAMP:20260421T082950
CREATED:20250418T192804Z
LAST-MODIFIED:20250604T213656Z
UID:10003047-1749384000-1749398400@malcolmyards.market
SUMMARY:Daddy-o On The Patio – Father’s Day Pre-Game!
DESCRIPTION:June 8th 2025 12pm-4pm \nWhat do you get when you mix a beer dabbler\, some killer eats\, and a sunny patio? \nYou get Daddy-o on the Patio – the perfect way to treat all the father figures in your life. Why wait until Fathers Day? The Market at Malcolm Yards is celebrating dads early with beer\, grilling and family fun! \nFor just $10\, you’ll enjoy: \n\nSamples from 17 local breweries in our Blueprint Room\n\nCastle Danger\nBoulevard Brewing\nOliphant\nPryes\nDual Citizen\nUrband Growler\nInsight Brewing\nFalling Knife Brewing\nWar Pigs\n3 Floyds\nModist\nElm Creek Brewing\nLupulin Brewing\nBroken Clock\nInvictus Brewing\nUrsa Minor Brewing\nMontgomery Brewing\n\n\nA drink token for featured beer from our Boxcar Bar\nSome cool brewery swag\nEntry into drawings for prizesTickets are available in advance or in-person day-of!
URL:https://malcolmyards.market/event/daddy-o-on-the-patio-fathers-day-pre-game/
LOCATION:The Market at Malcolm Yards\, 501 30th Ave E\, Minneapolis\, MN\, 55414
ATTACH;FMTTYPE=image/png:https://malcolmyards.market/wp-content/uploads/2025/04/daddy-0-500-x-500-px-16-x-9-in.png
END:VEVENT
BEGIN:VEVENT
DTSTART;TZID=America/Chicago:20250610T183000
DTEND;TZID=America/Chicago:20250610T203000
DTSTAMP:20260421T082950
CREATED:20250430T190402Z
LAST-MODIFIED:20250523T180544Z
UID:10003050-1749580200-1749587400@malcolmyards.market
SUMMARY:Music Mayhem: The Ultimate Online Music Game Show
DESCRIPTION:Music Lovers and Trivia Fans—This Event Hits All the Right Notes!\nSince 1999\, Music Mayhem has energized Bars and Restaurants with its fast-paced\, interactive music trivia experience. \nPlayers use their smartphone or tablet to guess song titles and artists as they appear letter-by-letter on a screen. With thousands of tracks across every genre and era\, Music Mayhem brings the party to any audience. \nThe Pro Trivia Jockeys customize playlists by genre\, decade\, or theme—ensuring non-stop engagement and full-blast fun. \nPlay along for a chance to win gift cards throughout the evening.
URL:https://malcolmyards.market/event/music-mayhem-the-ultimate-online-music-game-show/
LOCATION:The Market at Malcolm Yards\, 501 30th Ave E\, Minneapolis\, MN\, 55414
ATTACH;FMTTYPE=image/png:https://malcolmyards.market/wp-content/uploads/2025/04/Screenshot-2025-04-30-135343.png
END:VEVENT
BEGIN:VEVENT
DTSTART;TZID=America/Chicago:20250614T100000
DTEND;TZID=America/Chicago:20250614T110000
DTSTAMP:20260421T082950
CREATED:20240203T174152Z
LAST-MODIFIED:20251213T153201Z
UID:10001102-1749895200-1749898800@malcolmyards.market
SUMMARY:JUST Keg HIIT Class: Every Saturday (Free)
DESCRIPTION:JUST x MY = Free Keg HIIT Classes!\nJoin us every Saturday morning at 10AM before we open for a Keg HIIT class with the team at JUST. \n50 minute classes featuring cardio\, strength training+ more! Open to all ages + experience\, free to the public. \nBring your own water bottle\, towel + mat. \nSign up for FREE here! \n(Walk-ins welcome\, too!) \n  \n 
URL:https://malcolmyards.market/event/just-fitness-classes-every-saturday-free-2-2-2-2-2/2025-06-14/
LOCATION:The Market at Malcolm Yards\, 501 30th Ave E\, Minneapolis\, MN\, 55414
CATEGORIES:JUST
ATTACH;FMTTYPE=image/svg+xml:https://malcolmyards.market/wp-content/uploads/2024/02/website-images-render-1.svg
END:VEVENT
BEGIN:VEVENT
DTSTART;TZID=America/Chicago:20250616T180000
DTEND;TZID=America/Chicago:20250616T200000
DTSTAMP:20260421T082950
CREATED:20250520T204723Z
LAST-MODIFIED:20250520T205041Z
UID:10003052-1750096800-1750104000@malcolmyards.market
SUMMARY:Jason Kallsen- Pour and Explore: LOIRE VALLEY
DESCRIPTION:Many people find the Loire Valley confusing. From the west to the east\, there are dozens of AOCs growing a range of grapes\, from Sauvignon Blanc to Cabernet Franc\, plus oddities like Melon de Bourgogne and Pineau d’Aunis. Join us for an evening of Loire education and exploration to demystify the region. \nTickets sell fast and are available HERE!
URL:https://malcolmyards.market/event/jason-kallsen-pour-and-explore-loire-valley/
LOCATION:The Market at Malcolm Yards\, 501 30th Ave E\, Minneapolis\, MN\, 55414
CATEGORIES:Wine Education
ATTACH;FMTTYPE=image/png:https://malcolmyards.market/wp-content/uploads/2025/01/Screenshot-2025-01-30-192803.png
END:VEVENT
BEGIN:VEVENT
DTSTART;TZID=America/Chicago:20250621T100000
DTEND;TZID=America/Chicago:20250621T110000
DTSTAMP:20260421T082950
CREATED:20240203T174152Z
LAST-MODIFIED:20251213T153201Z
UID:10001142-1750500000-1750503600@malcolmyards.market
SUMMARY:JUST Keg HIIT Class: Every Saturday (Free)
DESCRIPTION:JUST x MY = Free Keg HIIT Classes!\nJoin us every Saturday morning at 10AM before we open for a Keg HIIT class with the team at JUST. \n50 minute classes featuring cardio\, strength training+ more! Open to all ages + experience\, free to the public. \nBring your own water bottle\, towel + mat. \nSign up for FREE here! \n(Walk-ins welcome\, too!) \n  \n 
URL:https://malcolmyards.market/event/just-fitness-classes-every-saturday-free-2-2-2-2-2/2025-06-21/
LOCATION:The Market at Malcolm Yards\, 501 30th Ave E\, Minneapolis\, MN\, 55414
CATEGORIES:JUST
ATTACH;FMTTYPE=image/svg+xml:https://malcolmyards.market/wp-content/uploads/2024/02/website-images-render-1.svg
END:VEVENT
BEGIN:VEVENT
DTSTART;TZID=America/Chicago:20250628T100000
DTEND;TZID=America/Chicago:20250628T110000
DTSTAMP:20260421T082950
CREATED:20240203T174152Z
LAST-MODIFIED:20251213T153201Z
UID:10001143-1751104800-1751108400@malcolmyards.market
SUMMARY:JUST Keg HIIT Class: Every Saturday (Free)
DESCRIPTION:JUST x MY = Free Keg HIIT Classes!\nJoin us every Saturday morning at 10AM before we open for a Keg HIIT class with the team at JUST. \n50 minute classes featuring cardio\, strength training+ more! Open to all ages + experience\, free to the public. \nBring your own water bottle\, towel + mat. \nSign up for FREE here! \n(Walk-ins welcome\, too!) \n  \n 
URL:https://malcolmyards.market/event/just-fitness-classes-every-saturday-free-2-2-2-2-2/2025-06-28/
LOCATION:The Market at Malcolm Yards\, 501 30th Ave E\, Minneapolis\, MN\, 55414
CATEGORIES:JUST
ATTACH;FMTTYPE=image/svg+xml:https://malcolmyards.market/wp-content/uploads/2024/02/website-images-render-1.svg
END:VEVENT
BEGIN:VEVENT
DTSTART;TZID=America/Chicago:20250629T100000
DTEND;TZID=America/Chicago:20250629T110000
DTSTAMP:20260421T082950
CREATED:20250604T214340Z
LAST-MODIFIED:20250604T214340Z
UID:10003061-1751191200-1751194800@malcolmyards.market
SUMMARY:Barre + Bubbles by Hola Yoga!
DESCRIPTION:Join us at The Market at Malcolm Yards for a full-body workout combining ballet-inspired moves with elements of Pilates and strength training. This class targets core stability\, improves flexibility\, and tones muscles using small\, controlled movements. Suitable for all fitness levels. Be sure to stick around after class to refuel at The Market and to grab a complimentary glass of bubbles at our Boxcar Bar. \nBring your own water bottle\, towel + mat. \n  \nSign up and get tickets HERE!
URL:https://malcolmyards.market/event/barre-bubbles-by-hola-yoga-4/
LOCATION:The Market at Malcolm Yards\, 501 30th Ave E\, Minneapolis\, MN\, 55414
ATTACH;FMTTYPE=image/png:https://malcolmyards.market/wp-content/uploads/2025/01/Screenshot-2025-01-15-160313-e1757449521749.png
END:VEVENT
END:VCALENDAR