BEGIN:VCALENDAR
VERSION:2.0
PRODID:-//The Market at Malcolm Yards - ECPv6.15.11//NONSGML v1.0//EN
CALSCALE:GREGORIAN
METHOD:PUBLISH
X-WR-CALNAME:The Market at Malcolm Yards
X-ORIGINAL-URL:https://malcolmyards.market
X-WR-CALDESC:Events for The Market at Malcolm Yards
REFRESH-INTERVAL;VALUE=DURATION:PT1H
X-Robots-Tag:noindex
X-PUBLISHED-TTL:PT1H
BEGIN:VTIMEZONE
TZID:America/Chicago
BEGIN:DAYLIGHT
TZOFFSETFROM:-0600
TZOFFSETTO:-0500
TZNAME:CDT
DTSTART:20240310T080000
END:DAYLIGHT
BEGIN:STANDARD
TZOFFSETFROM:-0500
TZOFFSETTO:-0600
TZNAME:CST
DTSTART:20241103T070000
END:STANDARD
BEGIN:DAYLIGHT
TZOFFSETFROM:-0600
TZOFFSETTO:-0500
TZNAME:CDT
DTSTART:20250309T080000
END:DAYLIGHT
BEGIN:STANDARD
TZOFFSETFROM:-0500
TZOFFSETTO:-0600
TZNAME:CST
DTSTART:20251102T070000
END:STANDARD
BEGIN:DAYLIGHT
TZOFFSETFROM:-0600
TZOFFSETTO:-0500
TZNAME:CDT
DTSTART:20260308T080000
END:DAYLIGHT
BEGIN:STANDARD
TZOFFSETFROM:-0500
TZOFFSETTO:-0600
TZNAME:CST
DTSTART:20261101T070000
END:STANDARD
END:VTIMEZONE
BEGIN:VEVENT
DTSTART;TZID=America/Chicago:20250422T180000
DTEND;TZID=America/Chicago:20250422T190000
DTSTAMP:20260419T101854
CREATED:20250415T211806Z
LAST-MODIFIED:20250415T211806Z
UID:10003039-1745344800-1745348400@malcolmyards.market
SUMMARY:Sip N Bloom - Flower Arranging
DESCRIPTION:Step into the world of seasonal blooms and discover the art of flower arranging like never before!\nOur Seasonal Flower Arranging Workshop is your ticket to crafting stunning floral creations that capture the essence of the current season. \n💐 What to Expect: \n– Expert Guidance: Our experienced floral instructors will lead you through the process\, sharing their knowledge and passion for flowers. \n– Seasonal Beauty: Work with a handpicked selection of seasonal blooms and foliage\, perfectly suited to the time of year. \n– Hands-On Creativity: Dive into the world of floral design as you craft your own unique arrangement. \n– Personal Touch: Tailor your creation to reflect your style and the spirit of the season. \n– Inspiring Environment: Enjoy the camaraderie of fellow floral enthusiasts in a warm and welcoming atmosphere. \nWhether you’re looking to enhance your home’s decor with a beautiful centerpiece or seeking a creative way to celebrate the changing seasons\, our Seasonal Flower Arranging Workshop is the perfect choice. *Upgrades are available for those looking for an extra special experience. \n🌸Click here to attend 
URL:https://malcolmyards.market/event/sip-n-bloom-flower-arranging/
LOCATION:MN
CATEGORIES:Sip N Bloom
ATTACH;FMTTYPE=image/webp:https://malcolmyards.market/wp-content/uploads/2025/04/RRG4QHNEQAN7Z64COX5C4YZG.webp
END:VEVENT
END:VCALENDAR