BEGIN:VCALENDAR
VERSION:2.0
PRODID:-//The Market at Malcolm Yards - ECPv6.15.11//NONSGML v1.0//EN
CALSCALE:GREGORIAN
METHOD:PUBLISH
X-ORIGINAL-URL:https://malcolmyards.market
X-WR-CALDESC:Events for The Market at Malcolm Yards
REFRESH-INTERVAL;VALUE=DURATION:PT1H
X-Robots-Tag:noindex
X-PUBLISHED-TTL:PT1H
BEGIN:VTIMEZONE
TZID:America/Chicago
BEGIN:DAYLIGHT
TZOFFSETFROM:-0600
TZOFFSETTO:-0500
TZNAME:CDT
DTSTART:20240310T080000
END:DAYLIGHT
BEGIN:STANDARD
TZOFFSETFROM:-0500
TZOFFSETTO:-0600
TZNAME:CST
DTSTART:20241103T070000
END:STANDARD
BEGIN:DAYLIGHT
TZOFFSETFROM:-0600
TZOFFSETTO:-0500
TZNAME:CDT
DTSTART:20250309T080000
END:DAYLIGHT
BEGIN:STANDARD
TZOFFSETFROM:-0500
TZOFFSETTO:-0600
TZNAME:CST
DTSTART:20251102T070000
END:STANDARD
BEGIN:DAYLIGHT
TZOFFSETFROM:-0600
TZOFFSETTO:-0500
TZNAME:CDT
DTSTART:20260308T080000
END:DAYLIGHT
BEGIN:STANDARD
TZOFFSETFROM:-0500
TZOFFSETTO:-0600
TZNAME:CST
DTSTART:20261101T070000
END:STANDARD
END:VTIMEZONE
BEGIN:VEVENT
DTSTART;TZID=America/Chicago:20250214T180000
DTEND;TZID=America/Chicago:20250214T200000
DTSTAMP:20260423T213907
CREATED:20250128T225424Z
LAST-MODIFIED:20250128T225424Z
UID:10002545-1739556000-1739563200@malcolmyards.market
SUMMARY:Vino and Vinyl Valentine's: 2025 Edition
DESCRIPTION:Join us as we take over the Machine Shop at Malcolm Yards (decked out for Valentine’s night)\, enjoy a couple of bites from the food hall and kick back to enjoy learning about wines and pairing with great music. \nFlight A will of course be sparkling wine. We’ll learn about the key differences in the two wines being presented\, then settle into a range of songs specifically chosen to highlight the style of wine and the changing of the flavor. \nFlight B will dive into two very fun\, very obscure\, and very delicious whites that will again be paired against love songs in different genres\, this time with a faster beat and more energy. You’ll be amazed at how the wines deliver new personalities with each tune. \nFlight C is all about reds\, with two gems and some super heavy duty music that will get you dancing. \nThe final flight will be one serving of Port to finish off the night\, along with some gentle music in the background. \nGet your Tickets HERE! Space is limited!
URL:https://malcolmyards.market/event/vino-and-vinyl-valentines-2025-edition/
LOCATION:The Market at Malcolm Yards\, 501 30th Ave E\, Minneapolis\, MN\, 55414
CATEGORIES:Wine Education
ATTACH;FMTTYPE=image/png:https://malcolmyards.market/wp-content/uploads/2025/01/Screenshot-2025-01-28-154251.png
END:VEVENT
END:VCALENDAR